BEGIN:VCALENDAR
VERSION:2.0
PRODID:-//National Critical Care and Trauma Response Centre - ECPv6.6.1//NONSGML v1.0//EN
CALSCALE:GREGORIAN
METHOD:PUBLISH
X-ORIGINAL-URL:https://staging.nationaltraumacentre.gov.au
X-WR-CALDESC:Events for National Critical Care and Trauma Response Centre
REFRESH-INTERVAL;VALUE=DURATION:PT1H
X-Robots-Tag:noindex
X-PUBLISHED-TTL:PT1H
BEGIN:VTIMEZONE
TZID:Australia/Darwin
BEGIN:STANDARD
TZOFFSETFROM:+0930
TZOFFSETTO:+0930
TZNAME:ACST
DTSTART:20220101T000000
END:STANDARD
END:VTIMEZONE
BEGIN:VEVENT
DTSTART;TZID=Australia/Darwin:20220505T080000
DTEND;TZID=Australia/Darwin:20220505T170000
DTSTAMP:20260426T130528
CREATED:20211210T014648Z
LAST-MODIFIED:20220412T034916Z
UID:10740-1651737600-1651770000@staging.nationaltraumacentre.gov.au
SUMMARY:Australian Trauma Team Training (ATTT)
DESCRIPTION:Open for registration\n\n\n\nRegistration closes: 28 March 2022\n\n\n\nNumber of participants: Max 12\n\n\n\n\n\n\n\nCriteria for Attendance \n\n\n\nThis course is limited to nursing and medical staff working in Emergency\, Surgical\, Intensive Care or Anaesthesia \, and those whose current role is to work in trauma team resuscitation. \n\n\n\n\n\n\n\nObjectives of the course is \n\n\n\nTo use a structured team approach for early recognition and stabilisation of traumatic emergencies presenting to the trauma centre \n\n\n\nEffective team leadership and team interaction \n\n\n\nSkills for working effectively at an organisational level\, including decision-making regarding consultation and disposition \n\n\n\nSkills for safe practice and error minimisation \n\n\n\nDeveloping an understanding of and familiarity with the concept of crisis resource management is a 1-day course to familiarise participants with the concepts of crisis resource management through the use of simulation based training scenarios. \n\n\n\n\n\n\n\nCourse Cost: \n\n\n\nNorthern Territory Government staff members: No cost for attendance \n\n\n\nNon-Northern Territory Government staff: $130.00 (pp incl.GST)
URL:https://staging.nationaltraumacentre.gov.au/calendar/australian-trauma-team-training-attt/
LOCATION:NCCTRC Training Facility – RDH\, 8th floor\, 105 Rocklands Dr\, Tiwi\, NT\, 0810\, Australia
CATEGORIES:Trauma Training
ATTACH;FMTTYPE=image/jpeg:https://staging.nationaltraumacentre.gov.au/wp-content/uploads/2021/11/NCCTRC_AUSMAT_TRAUMA_TRAINING_05.jpeg
ORGANIZER;CN="NCCTRC Education":MAILTO:admin.ncctrc@nt.gov.au
END:VEVENT
BEGIN:VEVENT
DTSTART;TZID=Australia/Darwin:20220518T080000
DTEND;TZID=Australia/Darwin:20220519T170000
DTSTAMP:20260426T130528
CREATED:20211212T232107Z
LAST-MODIFIED:20220428T045249Z
UID:10792-1652860800-1652979600@staging.nationaltraumacentre.gov.au
SUMMARY:Remote Pre-Hospital Trauma and Disaster Course (RPHTDC)
DESCRIPTION:Registration closes: 11 May 22\n\n\n\nNumber of participants: Min 12 / Max 18 \n\n\n\n\n\n\n\nThis 2 day course is for personnel who attend pre-hospital incidents. The course provides participants with the theoretical knowledge and practical skills to safely and effectively manage trauma and/or disaster patients in the pre-hospital environment. \n\n\n\nAt the end of the course participants should be able to: \n\n\n\nDemonstrate the assessment and effective management of a vehicle crash sceneDemonstrate the assessment and effective management of trapped casualtiesDemonstrate the safe extrication of trapped casualtiesDiscuss the importance of and demonstrate working effectively within a team settingDiscuss how to safely approach a house when attending a call outDemonstrate the triage sort and sieve\, treatment and transport principles used within mass casualty incidents\n\n\n\n\n\n\n\nSuitable Participants: \n\n\n\nRemote Area Nurses\, Remote Medical Practitioners\, Medical and Nursing professionals\, Retrieval Specialists\, Aboriginal and Torres Strait Islander Health Practitioners (ATSIHPs)\, Emergency Services\, Mine Rescue and Australian Defence Force Health personnel. \n\n\n\n\n\n\n\nCourse Cost: \n\n\n\nNorthern Territory Government staff members: $300.00 [pp incl. GST] \n\n\n\nNon Northern Territory Government staff: $600.00 [pp incl. GST] \n\n\n\n[prices and course availability are subject to change] \n\n\n\n\n\n\n\n*REGISTER AN EXPRESSION OF INTEREST – APPLICATIONS ARE SUBJECT TO REVIEW \n\n\n\n\n\n\n\nParticipant Testimonials \n\n\n\n“Being more knowledgeable if I was to come across an accident now. Having come across an accident recently I feel I would deal with it much better and definitely more safely!!” \n\n\n\n“The practical exercise around MVA extrication and safety was a highlight.” \n\n\n\n“The days were full and informative. Very enjoyable. A great learning environment facilitated by a great team.”
URL:https://staging.nationaltraumacentre.gov.au/calendar/remote-pre-hospital-trauma-and-disaster-course-rphtdc/
LOCATION:Maningrida\, Maningrida
CATEGORIES:Trauma Training
ATTACH;FMTTYPE=image/jpeg:https://staging.nationaltraumacentre.gov.au/wp-content/uploads/2021/11/NCCTRC_AUSMAT_TRAUMA_TRAINING_04-e1639374059353.jpeg
ORGANIZER;CN="NCCTRC Education":MAILTO:admin.ncctrc@nt.gov.au
END:VEVENT
BEGIN:VEVENT
DTSTART;TZID=Australia/Darwin:20220524T080000
DTEND;TZID=Australia/Darwin:20220526T170000
DTSTAMP:20260426T130528
CREATED:20211212T232538Z
LAST-MODIFIED:20220110T010754Z
UID:10794-1653379200-1653584400@staging.nationaltraumacentre.gov.au
SUMMARY:MIMMS Advanced
DESCRIPTION:Registration closes: 13 Apr 22\n\n\n\nNumber of participants: Min 12 / Max 18 \n\n\n\n\n\n\n\nThe content includes command safety\, communication\, assessment\, triage\, treatment and transport\, through: \n\n\n\nStructured lecturesA series of table-top exercisesPractical exercises in radio communicationCasualty simulation triage exercisesWorkshopsField exercises for command training involving airport and large crowd incidents (sports or similar)\n\n\n\n\n\n\n\nSuitable Participants: \n\n\n\nThose in senior positions likely to take a coordination or command role or those involved with staff development/training. A manual and materials are supplied as part of this course. \n\n\n\n\n\n\n\nCourse Cost: \n\n\n\nNorthern Territory Government staff members: $500.00 [pp incl. GST] \n\n\n\nnon Northern Territory Government staff: $995.00 [pp incl. GST] \n\n\n\n[prices and course availability are subject to change] \n\n\n\n\n\n\n\nRegistration: \n\n\n\nTo register your interest for this course please see the link here to the MIMMS Australia NT Course list: http://www.mimms.org.au/courses/nt
URL:https://staging.nationaltraumacentre.gov.au/calendar/mimms-advanced-3/
LOCATION:NCCTRC Training Facility – RDH\, 8th floor\, 105 Rocklands Dr\, Tiwi\, NT\, 0810\, Australia
CATEGORIES:MIMMS
ATTACH;FMTTYPE=image/jpeg:https://staging.nationaltraumacentre.gov.au/wp-content/uploads/2021/11/NCCTRC_MIMMS_NOV_2021_-44.jpeg
ORGANIZER;CN="NCCTRC Education":MAILTO:admin.ncctrc@nt.gov.au
END:VEVENT
END:VCALENDAR