BEGIN:VCALENDAR
VERSION:2.0
PRODID:-//National Critical Care and Trauma Response Centre - ECPv6.6.1//NONSGML v1.0//EN
CALSCALE:GREGORIAN
METHOD:PUBLISH
X-WR-CALNAME:National Critical Care and Trauma Response Centre
X-ORIGINAL-URL:https://staging.nationaltraumacentre.gov.au
X-WR-CALDESC:Events for National Critical Care and Trauma Response Centre
REFRESH-INTERVAL;VALUE=DURATION:PT1H
X-Robots-Tag:noindex
X-PUBLISHED-TTL:PT1H
BEGIN:VTIMEZONE
TZID:Australia/Darwin
BEGIN:STANDARD
TZOFFSETFROM:+0930
TZOFFSETTO:+0930
TZNAME:ACST
DTSTART:20220101T000000
END:STANDARD
END:VTIMEZONE
BEGIN:VEVENT
DTSTART;TZID=Australia/Darwin:20220915T080000
DTEND;TZID=Australia/Darwin:20220916T170000
DTSTAMP:20260426T101221
CREATED:20211213T002340Z
LAST-MODIFIED:20220831T003829Z
UID:10808-1663228800-1663347600@staging.nationaltraumacentre.gov.au
SUMMARY:ARC Advanced Life Support (ALS) Level 2
DESCRIPTION:Registration closes: 21 Jul 22\n\n\n\nNumber of participants: Min 12 / Max 18 \n\n\n\n\n\n\n\nThis two day\, Australian Resuscitation Council (ARC) accredited course\, aims to teach theory & practical skills to effectively manage cardiopulmonary arrests\, peri-assist situations & special circumstances\, whilst following the latest ARC guidelines. \n\n\n\nCourse content includes: \n\n\n\nRecognition\, assessment & management of life threatening arrhythmiasDefibrillationBasic & advanced airway management including Laryngeal Mask Airway (LMA) insertionLegal & ethical issues in resuscitation\n\n\n\n\n\n\n\nPre-requisite: \n\n\n\nCurrent Basic Life Support competent (evidence to be provided). \n\n\n\nOn succssful completion\, the participant receives a certificate valid for 4 years however it is an ARC recommendation that skills are updated at least annually. \n\n\n\n\n\n\n\nSuitable Participants: \n\n\n\nHealth professionals working within emergency departments\, intensive care\, high dependency\, coronary care\, operating theatres and retrieval\, and is required to lead a resuscitation team. Appropriate participants include Doctors\, Intensive Care Paramedics and Nurses. \n\n\n\n\n\n\n\nCourse Cost: \n\n\n\nNorthern Territory Government staff members: $500 \n\n\n\nnon Northern Territory Government staff: $800 \n\n\n\n[prices and course availability are subject to change]
URL:https://staging.nationaltraumacentre.gov.au/calendar/arc-advanced-life-support-level-2-2/
LOCATION:NCCTRC Training Facility – RDH\, 8th floor\, 105 Rocklands Dr\, Tiwi\, NT\, 0810\, Australia
CATEGORIES:Resuscitation
ATTACH;FMTTYPE=image/jpeg:https://staging.nationaltraumacentre.gov.au/wp-content/uploads/2021/12/NCCTRC_AUSMAT_02-scaled-e1639377107676.jpeg
ORGANIZER;CN="NCCTRC Education":MAILTO:admin.ncctrc@nt.gov.au
END:VEVENT
BEGIN:VEVENT
DTSTART;TZID=Australia/Darwin:20220920T080000
DTEND;TZID=Australia/Darwin:20220922T170000
DTSTAMP:20260426T101221
CREATED:20211213T002518Z
LAST-MODIFIED:20220110T010628Z
UID:10810-1663660800-1663866000@staging.nationaltraumacentre.gov.au
SUMMARY:MIMMS Advanced
DESCRIPTION:Registration closes: 9 Aug 22\n\n\n\nNumber of participants: Min 12 / Max 18 \n\n\n\n\n\n\n\nThe content includes command safety\, communication\, assessment\, triage\, treatment and transport\, through: \n\n\n\nStructured lecturesA series of table-top exercisesPractical exercises in radio communicationCasualty simulation triage exercisesWorkshopsField exercises for command training involving airport and large crowd incidents (sports or similar)\n\n\n\n\n\n\n\nSuitable Participants: \n\n\n\nThose in senior positions likely to take a coordination or command role or those involved with staff development/training. A manual and materials are supplied as part of this course. \n\n\n\n\n\n\n\nCourse Cost: \n\n\n\nNorthern Territory Government staff members: $500.00 [pp incl. GST] \n\n\n\nnon Northern Territory Government staff: $995.00 [pp incl. GST] \n\n\n\n[prices and course availability are subject to change] \n\n\n\n\n\n\n\nRegistration: \n\n\n\nTo register your interest for this course please see the link here to the MIMMS Australia NT Course list: http://www.mimms.org.au/courses/nt
URL:https://staging.nationaltraumacentre.gov.au/calendar/mimms-advanced-4/
LOCATION:NCCTRC Training Facility – RDH\, 8th floor\, 105 Rocklands Dr\, Tiwi\, NT\, 0810\, Australia
CATEGORIES:MIMMS
ATTACH;FMTTYPE=image/jpeg:https://staging.nationaltraumacentre.gov.au/wp-content/uploads/2021/11/NCCTRC_MIMMS_NOV_2021_-44.jpeg
ORGANIZER;CN="NCCTRC Education":MAILTO:admin.ncctrc@nt.gov.au
END:VEVENT
BEGIN:VEVENT
DTSTART;TZID=Australia/Darwin:20221013T080000
DTEND;TZID=Australia/Darwin:20221013T170000
DTSTAMP:20260426T101221
CREATED:20211213T002645Z
LAST-MODIFIED:20220628T005003Z
UID:10812-1665648000-1665680400@staging.nationaltraumacentre.gov.au
SUMMARY:Australian Trauma Team Training (ATTT)
DESCRIPTION:Registration closes: 10 Sep 22\n\n\n\nNumber of participants: Max 12\n\n\n\n\n\n\n\nCriteria for Attendance \n\n\n\nThis course is limited to nursing and medical staff working in Emergency\, Surgical\, Intensive Care or Anaesthesia \, and those whose current role is to work in trauma team resuscitation. \n\n\n\n\n\n\n\nObjectives of the course is \n\n\n\nTo use a structured team approach for early recognition and stabilisation of traumatic emergencies presenting to the trauma centre \n\n\n\nEffective team leadership and team interaction \n\n\n\nSkills for working effectively at an organisational level\, including decision-making regarding consultation and disposition \n\n\n\nSkills for safe practice and error minimisation \n\n\n\nDeveloping an understanding of and familiarity with the concept of crisis resource management is a 1-day course to familiarise participants with the concepts of crisis resource management through the use of simulation based training scenarios. \n\n\n\n\n\n\n\nCourse Cost: \n\n\n\nNorthern Territory Government staff members: No cost for attendance \n\n\n\nNon-Northern Territory Government staff: $130.00 (pp incl.GST)
URL:https://staging.nationaltraumacentre.gov.au/calendar/australian-trauma-team-training/
LOCATION:NCCTRC Training Facility – RDH\, 8th floor\, 105 Rocklands Dr\, Tiwi\, NT\, 0810\, Australia
CATEGORIES:Trauma Training
ATTACH;FMTTYPE=image/jpeg:https://staging.nationaltraumacentre.gov.au/wp-content/uploads/2021/11/NCCTRC_AUSMAT_TRAUMA_TRAINING_05.jpeg
ORGANIZER;CN="NCCTRC Education":MAILTO:admin.ncctrc@nt.gov.au
END:VEVENT
BEGIN:VEVENT
DTSTART;TZID=Australia/Darwin:20221102T080000
DTEND;TZID=Australia/Darwin:20221103T170000
DTSTAMP:20260426T101221
CREATED:20211213T003408Z
LAST-MODIFIED:20220110T010612Z
UID:10816-1667376000-1667494800@staging.nationaltraumacentre.gov.au
SUMMARY:Hospital MIMMS Course (HMIMMS)
DESCRIPTION:Registration closes: 21 Sep 22\n\n\n\nNumber of participants: Min 12 / Max 18 \n\n\n\n\n\n\n\nWhile traditional MIMMS teaches a structured approach to responding at the scene of mass casualty incidents\, Hospital MIMMS (HMIMMS) focusses on the delivery of care in the hospital environment. \n\n\n\nThis 2 day course explores the priorities and responsibilities of clinical and administrative responders facing a mass casualty incident in their hospital. An all-hazards approach is adopted while special incidents such as burns and chemical hazards are also covered. The concept of the collapsible hierarchy is introduced as a fundamental concept in the hospital based response. \n\n\n\nThe format includes; \n\n\n\n• Lectures \n\n\n\n• Small group workshops \n\n\n\n• Novel interactive tabletop sessions which simulate the challenges facing responders during the phases of patient reception\, definitive care and recovery. \n\n\n\n\n\n\n\nSuitable Participants:  \n\n\n\nThis course is aimed at personnel who would be involved in managing a major incident in the hospital. This can be clinical or non-clinical. \n\n\n\n\n\n\n\nCourse Cost: \n\n\n\nNorthern Territory Government staff members: $350.00 [pp incl. GST] \n\n\n\nnon Northern Territory Government staff: $695.00 [pp incl. GST] \n\n\n\n[prices and course availability are subject to change] \n\n\n\n\n\n\n\nRegistration: \n\n\n\nTo register your interest for this course please see the link here to the MIMMS Australia NT Course list:  http://www.mimms.org.au/courses/nt
URL:https://staging.nationaltraumacentre.gov.au/calendar/hospital-mimms-course-hmimms-4/
LOCATION:NCCTRC Training Facility – RDH\, 8th floor\, 105 Rocklands Dr\, Tiwi\, NT\, 0810\, Australia
CATEGORIES:MIMMS
ATTACH;FMTTYPE=image/jpeg:https://staging.nationaltraumacentre.gov.au/wp-content/uploads/2021/12/1o3a8539_0.jpeg
ORGANIZER;CN="NCCTRC Education":MAILTO:admin.ncctrc@nt.gov.au
END:VEVENT
BEGIN:VEVENT
DTSTART;TZID=Australia/Darwin:20221110T080000
DTEND;TZID=Australia/Darwin:20221110T170000
DTSTAMP:20260426T101221
CREATED:20211213T003633Z
LAST-MODIFIED:20220701T032211Z
UID:10818-1668067200-1668099600@staging.nationaltraumacentre.gov.au
SUMMARY:ARC Advanced Life Support (ALS) Level 2 Recertification
DESCRIPTION:Registration closes: 9 Sep 22\n\n\n\nNumber of participants: Min 12 / Max 18 \n\n\n\nThis is a 1-day Australian Resuscitation Council (ARC) Advanced Life Support (ALS) course for registered health professionals requiring reaccreditation for ALS Level 2 and who hold a current ARC ALS 2 Certificate. \n\n\n\nNumber of positions: 18 \n\n\n\n\n\n\n\nPre-Requisite \n\n\n\nApplicants are required to forward a copy of their current ARC ALS 2 card or a copy of their certificate to Admin.NCCTRC@ nt.gov.au at the time of registration.   \n\n\n\nReceipt of certificate or ARC card copies is mandatory for a position in this course.  \n\n\n\nParticipants whose ALS 2 provider status has expired will be required to complete the 2 day ALS 2 course. \n\n\n\n\n\n\n\nCourse Cost: \n\n\n\nNorthern Territory Government Staff Members: $240.00 (pp. incl. GST) \n\n\n\nNon-Northern Territory Government Staff: $470.00 (pp incl.GST) \n\n\n\n(Prices and course availability are subject to change) \n\n\n\nRegistrations close 9 September  2022
URL:https://staging.nationaltraumacentre.gov.au/calendar/advanced-life-support-level-2-recertification-2/
LOCATION:NCCTRC Training Facility – RDH\, 8th floor\, 105 Rocklands Dr\, Tiwi\, NT\, 0810\, Australia
CATEGORIES:Resuscitation
ATTACH;FMTTYPE=image/jpeg:https://staging.nationaltraumacentre.gov.au/wp-content/uploads/2021/12/NCCTRC_AUSMAT_03-scaled-e1639377286993.jpeg
ORGANIZER;CN="NCCTRC Education":MAILTO:admin.ncctrc@nt.gov.au
END:VEVENT
BEGIN:VEVENT
DTSTART;TZID=Australia/Darwin:20221122T080000
DTEND;TZID=Australia/Darwin:20221123T170000
DTSTAMP:20260426T101221
CREATED:20211214T232638Z
LAST-MODIFIED:20220815T033404Z
UID:11083-1669104000-1669222800@staging.nationaltraumacentre.gov.au
SUMMARY:CENA Trauma Nursing Program (TNP)
DESCRIPTION:Number of participants: Min 12 / Max 18 \n\n\n\n\n\n\n\nCENA’s Trauma Nursing Program (TNP) builds upon your knowledge of the pathophysiology and epidemiology of common trauma conditions presenting to the Emergency Department\, as well as providing the opportunity to improve clinical skills in key trauma related areas. \n\n\n\n\n\n\n\nPre-requisite: \n\n\n\nBasic levels of competency in certain skills such as Basic Life Support and common monitoring equipment. \n\n\n\nSuitable applicants include nurses providing emergency care to trauma patients in metropolitan and major regional hospitals. It is also suitable for nurses working in small rural and remote emergency facilities. \n\n\n\n\n\n\n\nRegistrations \n\n\n\nAll registrations are online directly with College of Emergency Nursing Australasia (CENA) \n\n\n\nRegister Here \n\n\n\n\n\n\n\n*NCCTRC will sponsor Northern Territory Government Department Health staff members working in the Northern Territory 50% of the TNP course cost. Reimbursement is subject to successful completion of the TNP training program. Contact the NCCTRC for further information\, email: Admin.NCCTRC@nt.gov.au 
URL:https://staging.nationaltraumacentre.gov.au/calendar/cenas-trauma-nursing-program-tnp/
LOCATION:NCCTRC Training Facility – RDH\, 8th floor\, 105 Rocklands Dr\, Tiwi\, NT\, 0810\, Australia
CATEGORIES:Trauma Training
ATTACH;FMTTYPE=image/jpeg:https://staging.nationaltraumacentre.gov.au/wp-content/uploads/2021/12/TNP-Square.jpg
ORGANIZER;CN="NCCTRC Education":MAILTO:admin.ncctrc@nt.gov.au
END:VEVENT
END:VCALENDAR