BEGIN:VCALENDAR
VERSION:2.0
PRODID:-//National Critical Care and Trauma Response Centre - ECPv6.6.1//NONSGML v1.0//EN
CALSCALE:GREGORIAN
METHOD:PUBLISH
X-WR-CALNAME:National Critical Care and Trauma Response Centre
X-ORIGINAL-URL:https://staging.nationaltraumacentre.gov.au
X-WR-CALDESC:Events for National Critical Care and Trauma Response Centre
REFRESH-INTERVAL;VALUE=DURATION:PT1H
X-Robots-Tag:noindex
X-PUBLISHED-TTL:PT1H
BEGIN:VTIMEZONE
TZID:Australia/Darwin
BEGIN:STANDARD
TZOFFSETFROM:+0930
TZOFFSETTO:+0930
TZNAME:ACST
DTSTART:20220101T000000
END:STANDARD
END:VTIMEZONE
BEGIN:VEVENT
DTSTART;TZID=Australia/Darwin:20220831T080000
DTEND;TZID=Australia/Darwin:20220901T170000
DTSTAMP:20260426T083859
CREATED:20211213T002205Z
LAST-MODIFIED:20220815T020440Z
UID:10806-1661932800-1662051600@staging.nationaltraumacentre.gov.au
SUMMARY:Remote Pre-Hospital Trauma and Disaster Course (RPHTDC) - Course Postponed
DESCRIPTION:Registration closes: 19 Jul 22\n\n\n\nNumber of participants: Min 12 / Max 18 \n\n\n\n\n\n\n\nThis 2 day course is for personnel who attend pre-hospital incidents. The course provides participants with the theoretical knowledge and practical skills to safely and effectively manage trauma or disaster patients in the pre-hospital environment. \n\n\n\nAt the end of the course participants should be able to: \n\n\n\nDemonstrate the assessment and effective management of a vehicle crash sceneDemonstrate the assessment and effective management of trapped casualtiesDemonstrate the safe extrication of trapped casualtiesDiscuss the importance of and demonstrate working effectively within a team settingDiscuss how to safely approach a house when attending a call outDemonstrate the triage sort and sieve\, treatment and transport principles used within mass casualty incidents\n\n\n\n\n\n\n\nSuitable Participants: \n\n\n\nRemote Area Nurses\, Remote Medical Practitioners\, Medical and Nursing professionals\, Retrieval Specialists\, Aboriginal and Torres Strait Islander Health Practitioners (ATSIHPs)\, Emergency Services\, Mine Rescue and Australian Defence Force health personnel. \n\n\n\n\n\n\n\nCourse Cost: \n\n\n\nNorthern Territory Government staff members: $300.00 [pp incl. GST] \n\n\n\nNon Northern Territory Government staff: $600.00 [pp incl. GST] \n\n\n\n[prices and course availability are subject to change] \n\n\n\n\n\n\n\n*REGISTER AN EXPRESSION OF INTEREST – APPLICATIONS ARE SUBJECT TO REVIEW \n\n\n\n\n\n\n\nParticipant Testimonials \n\n\n\n“Being more knowledgeable if I was to come across an accident now. Having come across an accident recently I feel I would deal with it much better and definitely more safely!!” \n\n\n\n“The practical exercise around MVA extrication and safety was a highlight.” \n\n\n\n“The days were full and informative. Very enjoyable. A great learning environment facilitated by a great team.”
URL:https://staging.nationaltraumacentre.gov.au/calendar/remote-pre-hospital-trauma-and-disaster-course-rphtdc-3/
LOCATION:Flinders University\, Centre for Remote Health\, 5 Skinner Street\, Alice Springs\, Australia
CATEGORIES:Trauma Training
ATTACH;FMTTYPE=image/jpeg:https://staging.nationaltraumacentre.gov.au/wp-content/uploads/2021/11/NCCTRC_AUSMAT_TRAUMA_TRAINING_04-e1639374059353.jpeg
ORGANIZER;CN="NCCTRC Education":MAILTO:admin.ncctrc@nt.gov.au
END:VEVENT
END:VCALENDAR