BEGIN:VCALENDAR
VERSION:2.0
PRODID:-//National Critical Care and Trauma Response Centre - ECPv6.6.1//NONSGML v1.0//EN
CALSCALE:GREGORIAN
METHOD:PUBLISH
X-ORIGINAL-URL:https://staging.nationaltraumacentre.gov.au
X-WR-CALDESC:Events for National Critical Care and Trauma Response Centre
REFRESH-INTERVAL;VALUE=DURATION:PT1H
X-Robots-Tag:noindex
X-PUBLISHED-TTL:PT1H
BEGIN:VTIMEZONE
TZID:Australia/Darwin
BEGIN:STANDARD
TZOFFSETFROM:+0930
TZOFFSETTO:+0930
TZNAME:ACST
DTSTART:20220101T000000
END:STANDARD
END:VTIMEZONE
BEGIN:VEVENT
DTSTART;TZID=Australia/Darwin:20220817T080000
DTEND;TZID=Australia/Darwin:20220818T170000
DTSTAMP:20260426T100010
CREATED:20211213T001749Z
LAST-MODIFIED:20220630T064041Z
UID:10802-1660723200-1660842000@staging.nationaltraumacentre.gov.au
SUMMARY:Hospital MIMMS Course (HMIMMS)
DESCRIPTION:Registration closes: 29 Jun 22\n\n\n\nNumber of participants: Min 12 / Max 18 \n\n\n\n\n\n\n\nWhile traditional MIMMS teaches a structured approach to responding at the scene of mass casualty incidents\, Hospital MIMMS (HMIMMS) focusses on the delivery of care in the hospital environment. \n\n\n\nThis 2 day course explores the priorities and responsibilities of clinical and administrative responders facing a mass casualty incident in their hospital. An all-hazards approach is adopted while special incidents such as burns and chemical hazards are also covered. The concept of the collapsible hierarchy is introduced as a fundamental concept in the hospital based response. \n\n\n\nThe format includes; \n\n\n\n• Lectures \n\n\n\n• Small group workshops \n\n\n\n• Novel interactive tabletop sessions which simulate the challenges facing responders during the phases of patient reception\, definitive care and recovery. \n\n\n\n\n\n\n\nSuitable Participants:  \n\n\n\nThis course is aimed at personnel who would be involved in managing a major incident in the hospital. This can be clinical or non-clinical. \n\n\n\n\n\n\n\nCourse Cost: \n\n\n\nNorthern Territory Government staff members: $350.00 [pp incl. GST] \n\n\n\nnon Northern Territory Government staff: $695.00 [pp incl. GST] \n\n\n\n[prices and course availability are subject to change] \n\n\n\n\n\n\n\nRegistration: \n\n\n\nTo register your interest for this course please see the link here to the MIMMS Australia NT Course list:  http://www.mimms.org.au/courses/nt
URL:https://staging.nationaltraumacentre.gov.au/calendar/hospital-mimms-course-hmimms-2/
LOCATION:NCCTRC Training Facility – RDH\, 8th floor\, 105 Rocklands Dr\, Tiwi\, NT\, 0810\, Australia
CATEGORIES:MIMMS
ATTACH;FMTTYPE=image/jpeg:https://staging.nationaltraumacentre.gov.au/wp-content/uploads/2021/12/1o3a8539_0.jpeg
ORGANIZER;CN="NCCTRC Education":MAILTO:admin.ncctrc@nt.gov.au
END:VEVENT
END:VCALENDAR