BEGIN:VCALENDAR
VERSION:2.0
PRODID:-//National Critical Care and Trauma Response Centre - ECPv6.6.1//NONSGML v1.0//EN
CALSCALE:GREGORIAN
METHOD:PUBLISH
X-WR-CALNAME:National Critical Care and Trauma Response Centre
X-ORIGINAL-URL:https://staging.nationaltraumacentre.gov.au
X-WR-CALDESC:Events for National Critical Care and Trauma Response Centre
REFRESH-INTERVAL;VALUE=DURATION:PT1H
X-Robots-Tag:noindex
X-PUBLISHED-TTL:PT1H
BEGIN:VTIMEZONE
TZID:Australia/Darwin
BEGIN:STANDARD
TZOFFSETFROM:+0930
TZOFFSETTO:+0930
TZNAME:ACST
DTSTART:20220101T000000
END:STANDARD
END:VTIMEZONE
BEGIN:VEVENT
DTSTART;TZID=Australia/Darwin:20220721T080000
DTEND;TZID=Australia/Darwin:20220721T170000
DTSTAMP:20260426T112004
CREATED:20211213T001133Z
LAST-MODIFIED:20220320T230346Z
UID:10798-1658390400-1658422800@staging.nationaltraumacentre.gov.au
SUMMARY:Remote Area Trauma Education (RATE)
DESCRIPTION:Registrations Open\n\n\n\nNumber of participants: Min 12 / Max 18 \n\n\n\nRegistration closes: 9 Jun 22\n\n\n\n\n\n\n\nThis 1-day course is designed to provide remote area health professionals with the theoretical knowledge and practical skills to be able to safely assess and manage trauma patients within the remote health centre until the arrival of the retrieval team. \n\n\n\nRATE is provided in remote health centres with an emphasis on practical skills\, small interactive groups and relevant scenarios. \n\n\n\nBy the end of the course participants will be able to: \n\n\n\nDescribe the initial assessment of the trauma patient in a remote setting.Demonstrate the assessment and management of a compromised airway (utilising basic and advanced airway manoeuvres).Demonstrate the assessment and management of chest / trauma injuries.Demonstrate the assessment and management of spinal injuries and haemorrhage control.Demonstrate how to give an effective clinical handover.Describe the requirements for retrieval and transport of the remote trauma patient.Trauma ScenarioAn opportunity for participants to demonstrate and highlight key learning points of the dayPrimary surveySecondary surveyHow to avoid missed injuriesClinical handoverPackaging and transporting\n\n\n\n\n\n\n\nSuitable Participants: \n\n\n\nIt is aimed at remote health personnel particularly General Practitioners (GPs)\, Remote Area Nurses (RANs) and Aboriginal and Torres Strait Islander Health Practitioners (ATSIHPs). \n\n\n\n\n\n\n\nCourse Cost:  \n\n\n\nSponsored by the NCCTRC. \n\n\n\n[prices and course availability are subject to change] \n\n\n\n\n\n\n\n*REGISTER AN EXPRESSION OF INTEREST – APPLICATIONS ARE SUBJECT TO REVIEW \n\n\n\n\n\n\n\nParticipants Testimonials \n\n\n\n“Hands on experience and familiarisation of equipment” \n\n\n\n“Reinforcing patient care\, use of equipment and team building” \n\n\n\n“Having a better understanding of equipment / other resources available in remote clinics”
URL:https://staging.nationaltraumacentre.gov.au/calendar/remote-area-trauma-education-rate-3/
LOCATION:Katherine\, Katherine\, NT\, Australia
CATEGORIES:Trauma Training
ATTACH;FMTTYPE=image/jpeg:https://staging.nationaltraumacentre.gov.au/wp-content/uploads/2021/12/NCCTRC_AUSMAT_01-scaled-e1639374937458.jpg
ORGANIZER;CN="NCCTRC Education":MAILTO:admin.ncctrc@nt.gov.au
END:VEVENT
END:VCALENDAR