BEGIN:VCALENDAR
VERSION:2.0
PRODID:-//National Critical Care and Trauma Response Centre - ECPv6.6.1//NONSGML v1.0//EN
CALSCALE:GREGORIAN
METHOD:PUBLISH
X-WR-CALNAME:National Critical Care and Trauma Response Centre
X-ORIGINAL-URL:https://staging.nationaltraumacentre.gov.au
X-WR-CALDESC:Events for National Critical Care and Trauma Response Centre
REFRESH-INTERVAL;VALUE=DURATION:PT1H
X-Robots-Tag:noindex
X-PUBLISHED-TTL:PT1H
BEGIN:VTIMEZONE
TZID:Australia/Darwin
BEGIN:STANDARD
TZOFFSETFROM:+0930
TZOFFSETTO:+0930
TZNAME:ACST
DTSTART:20220101T000000
END:STANDARD
END:VTIMEZONE
BEGIN:VEVENT
DTSTART;TZID=Australia/Darwin:20220705T080000
DTEND;TZID=Australia/Darwin:20220707T170000
DTSTAMP:20260426T112100
CREATED:20211210T042145Z
LAST-MODIFIED:20220601T001834Z
UID:10781-1657008000-1657213200@staging.nationaltraumacentre.gov.au
SUMMARY:MIMMS Advanced
DESCRIPTION:Registration closes: 17 May 22\n\n\n\nNumber of participants: Min 12 / Max 18 \n\n\n\n\n\n\n\nThe content includes command safety\, communication\, assessment\, triage\, treatment and transport\, through: \n\n\n\nStructured lecturesA series of table-top exercisesPractical exercises in radio communicationCasualty simulation triage exercisesWorkshopsField exercises for command training involving airport and large crowd incidents (sports or similar)\n\n\n\n\n\n\n\nSuitable Participants: \n\n\n\nThose in senior positions likely to take a coordination or command role or those involved with staff development/training. A manual and materials are supplied as part of this course. \n\n\n\n\n\n\n\nCourse Cost: \n\n\n\nNorthern Territory Government staff members: $500.00 [pp incl. GST] \n\n\n\nnon Northern Territory Government staff: $995.00 [pp incl. GST] \n\n\n\n[prices and course availability are subject to change] \n\n\n\n\n\n\n\nRegistration: \n\n\n\nTo register your interest for this course please see the link here to the MIMMS Australia NT Course list: http://www.mimms.org.au/courses/nt
URL:https://staging.nationaltraumacentre.gov.au/calendar/mimms-advanced-2/
LOCATION:NCCTRC Training Facility – RDH\, 8th floor\, 105 Rocklands Dr\, Tiwi\, NT\, 0810\, Australia
CATEGORIES:MIMMS
ATTACH;FMTTYPE=image/jpeg:https://staging.nationaltraumacentre.gov.au/wp-content/uploads/2021/11/NCCTRC_MIMMS_NOV_2021_-44.jpeg
ORGANIZER;CN="NCCTRC Education":MAILTO:admin.ncctrc@nt.gov.au
END:VEVENT
END:VCALENDAR